BEGIN:VCALENDAR
VERSION:2.0
PRODID: -//CMS 5.0 //NONSGML //DE
BEGIN:VEVENT
SUMMARY:Unterrichtssonntag in Oschersleben (Bereich Halberstadt)
DESCRIPTION:10:00 Uhr Kindergottesdienst mit Gemeinde\nanschließend Rel
 igions- und Konfirmandenunterricht\n\n\n\nhttps://aschersleben.nak-nord
 ost.de/db/596489
UID:596489@aschersleben.nak-nordost.de
LOCATION:Sven Kumke
CATEGORIES:Kinder,Gemeinde Oschersleben,Gemeinde Eisleben,Gemeinde Aschersleben,Gemeinde Blankenburg,Gottesdienst,Gemeinde Halberstadt,Gemeinde Hadmersleben,Gemeinde Wernigerode
X-ORGANIZER:
STATUS:CONFIRMED
CLASS:PUBLIC
DTSTART:20260607T080000Z
DTEND:20260607T080000Z
DTSTAMP:20260421T125146Z
CREATED:20260326T112642Z
LAST-MODIFIED:20260326T112642Z
BEGIN:VALARM
UID:DB4AB046-3D80-11F1-82FF-FE035B29324C
TRIGGER:-PT60M
ACTION:DISPLAY
DESCRIPTION:SUMMARY:Unterrichtssonntag in Oschersleben (Bereich Halberstadt)
END:VALARM
END:VEVENT
END:VCALENDAR
